BEGIN:VCALENDAR
VERSION:2.0
PRODID:-//Averix Group Limited - ECPv6.15.17//NONSGML v1.0//EN
CALSCALE:GREGORIAN
METHOD:PUBLISH
X-WR-CALNAME:Averix Group Limited
X-ORIGINAL-URL:https://averixgroupltd.com
X-WR-CALDESC:Events for Averix Group Limited
REFRESH-INTERVAL;VALUE=DURATION:PT1H
X-Robots-Tag:noindex
X-PUBLISHED-TTL:PT1H
BEGIN:VTIMEZONE
TZID:Africa/Nairobi
BEGIN:STANDARD
TZOFFSETFROM:+0300
TZOFFSETTO:+0300
TZNAME:EAT
DTSTART:20240101T000000
END:STANDARD
END:VTIMEZONE
BEGIN:VEVENT
DTSTART;TZID=Africa/Nairobi:20251128T080000
DTEND;TZID=Africa/Nairobi:20251129T140000
DTSTAMP:20260422T005321
CREATED:20251105T050959Z
LAST-MODIFIED:20251105T051211Z
UID:1880-1764316800-1764424800@averixgroupltd.com
SUMMARY:The GRAND Finale-VELD TRAILS COHORT 4
DESCRIPTION:Gear up for the Grand Finale of the year — Wilderness Survival Cohort 4 by Veld Trails . This is not your average weekend getaway; it’s a full-immersion survival experience designed to test your grit\, sharpen your instincts\, and reconnect you with nature’s raw pulse. \nJoin a driven community of explorers as we conquer Il-Ngarooj Trails & Hikers Hub with hands-on survival sessions including: \nHiking & Camping through rugged terrain \nBasic First Aid for backcountry emergencies \nNavigation Drills using maps and compasses \nWilderness Survival Skills to thrive off-grid \nThis is your last chance in 2025 to be part of the Veld Trails Cohort legacy — don’t miss your slot. Spaces are limited and demand is high. \n📅 Dates: 28th – 29th November 2025\n💰 Fee: KES 7\,500\n🔥 Early Bird: KES 6\,500 (until 15th November 2025)\n📍 Venue: Il-Ngarooj Trails & Hikers Hub\n💳 Payment: Mpesa Buy Goods Till No: 5692338\n📞 Contact / WhatsApp: 0708664312 \nSecure your spot. Test your limits. End the year on a wild note — because survival isn’t taught\, it’s lived.
URL:https://averixgroupltd.com/event/the-grand-finale-veld-trails-cohort-4/
LOCATION:Il-ngarooj Trails & Hikers Hub
CATEGORIES:Training Event
ATTACH;FMTTYPE=image/png:https://averixgroupltd.com/wp-content/uploads/2025/11/cohort-4.png
ORGANIZER;CN="Training & Excursions Division":MAILTO:trails@averixgroupltd.com
END:VEVENT
END:VCALENDAR